BEGIN:VCALENDAR
VERSION:2.0
PRODID:-//82.223.102.126//NONSGML kigkonsult.se iCalcreator 2.20//
CALSCALE:GREGORIAN
METHOD:PUBLISH
X-WR-TIMEZONE:Europe/Madrid
BEGIN:VEVENT
UID:event275@Villa de Rota 
DTSTAMP:20260419T232739Z
CATEGORIES:Música\, Música Clásica\, Canto y Bandas\, Actos Religiosos\, Se
 mana Santa y Cuaresma
DESCRIPTION:'Creo en ti' Espectáculo Cofrade Banda de Música Nazareno Rota 
 \nCategoría: Música\, Música Clásica\, Canto y Bandas\, Actos Religiosos\,
  Semana Santa y Cuaresma\nEnlace: https://villaderota.com/index.php?option
 =com_jem&view=event&id=275:creo-en-ti-espectaculo-cofrade-banda-de-musica-
 nazareno-rota&Itemid=566\n
DTSTART;TZID=Europe/Madrid:20260306T200000
DTEND;TZID=Europe/Madrid:20260306T200000
LOCATION:Teatro Auditorio Alcalde Felipe Benitez\,Avda. San Fernando\, 79\,
 11520 Rota
SUMMARY:'Creo en ti' Espectáculo Cofrade Banda de Música Nazareno Rota 
URL:https://villaderota.com/index.php?option=com_jem&view=event&id=275:creo
 -en-ti-espectaculo-cofrade-banda-de-musica-nazareno-rota&Itemid=566
END:VEVENT
END:VCALENDAR