BEGIN:VCALENDAR
VERSION:2.0
PRODID:-//82.223.102.126//NONSGML kigkonsult.se iCalcreator 2.20//
CALSCALE:GREGORIAN
METHOD:PUBLISH
X-WR-TIMEZONE:Europe/Madrid
BEGIN:VEVENT
UID:event273@Villa de Rota 
DTSTAMP:20260420T053533Z
CATEGORIES:Fiestas Rota\, Carnaval
DESCRIPTION:Gran Cabalgata del Humor\nCategoría: Fiestas Rota\, Carnaval\nE
 nlace: https://villaderota.com/index.php?option=com_jem&view=event&id=273:
 gran-cabalgata-del-humor&Itemid=566\n
DTSTART;TZID=Europe/Madrid:20260222T160000
DTEND;TZID=Europe/Madrid:20260222T160000
LOCATION:Rota\,Rota\,11520 Rota
SUMMARY:Gran Cabalgata del Humor
URL:https://villaderota.com/index.php?option=com_jem&view=event&id=273:gran
 -cabalgata-del-humor&Itemid=566
END:VEVENT
END:VCALENDAR